BEGIN:VCALENDAR
VERSION:2.0
PRODID:-//eventon.com NONSGML v1.0//EN
CALSCALE:GREGORIAN
METHOD:PUBLISH
BEGIN:VEVENT
UID:69ed010141aa3
DTSTAMP:20260425T175929Z
DTSTART:20261017
DTEND:20261018
LOCATION:Virtual
SUMMARY:Curriculum Development in the Middle and Secondary School (PEDU 543)
DESCRIPTION:Curriculum Development in the Middle and Secondary School (PEDU
  543)\nhttps://longwoodce.org/events/curriculum-development-in-the-middle-a
 nd-secondary-school-pedu-543/
URL:https://longwoodce.org/events/curriculum-development-in-the-middle-and-secondary-school-pedu-543/
END:VEVENT
END:VCALENDAR